BEGIN:VCALENDAR
VERSION:2.0
PRODID:icalendar-ruby
CALSCALE:GREGORIAN
METHOD:PUBLISH
BEGIN:VEVENT
DTSTAMP:20260419T194440Z
UID:10-893440@thedoorpl.com
DTSTART:20260904T020000Z
DTEND:20260904T030000Z
CLASS:PUBLIC
CREATED:20260419T093101
DESCRIPTION:Thursday Midweek Service
LAST-MODIFIED:20260419T093101
LOCATION:3272 Rosecrans St. San Diego\, CA 92139
SUMMARY:Thursday Midweek Service
URL;VALUE=URI:https://thedoorpointloma.com/events/thursday-midweek-service/
 2026-09-03
END:VEVENT
END:VCALENDAR
